{"text_format":"1","workbook":"xlsx","n_sheets":7,"sheets":["Mittelhilfstabelle","Kurztab.","Sichtst.","Monatsdiagramm","Daten für Diagr.","Modul1","Erdboden"],"not_rendered":{"charts":4,"images":1,"macros":1,"external_links":1,"defined_names":5,"comments":0,"pivot_tables":0},"unopened":[{"sheet":"Modul1","index":5,"reason":"part_missing"}],"bounds":{"document_bytes":16777216,"sheet_cells":100000,"rows_first":2000,"rows_last":500,"rows_between":2000,"halvings":0,"cell_chars":16384,"cell_head_chars":4096},"cells_cut":0,"cells_raw":0,"read":"whole","date_system":"1900"}

{"sheet":"Mittelhilfstabelle","index":0,"n_rows":59,"n_cols":11,"rows_kept":59,"cut":false,"hidden":false,"merged":[]}
[]
["Stunde","Luftfeuchtigkeit","Luftdruck","Taupunkttemperatur","Bewölkung",null,"Stunde","Luftfeuchtigkeit","Luftdruck","Taupunkttemperatur","Bewölkung"]
["00",94,1009.8,2,8,null,"00",96,993.6,5.2,7]
["01",93,1009.6,2.1,8,null,"01",97,991.5,7.2,8]
["02",93,1010.1,2.1,8,null,"02",98,990.3,12.4,8]
["03",94,1008.9,2.2000000000000002,8,null,"03",82,989,13.3,7]
["04",94,1009.9,2.1,8,null,"04",76,989.8,12.7,2]
["05",95,1009.5,2.4,8,null,"05",75,989.7,12.2,6]
["06",95,1008.8,2.4,8,null,"06",71,989.6,11.8,6]
["07",95,1008.5,2.4,8,null,"07",72,990.9,11.4,1]
["08",96,1009,2.8,8,null,"08",69,992.2,10.8,1]
["09",96,1008.6,3,8,null,"09",57,992.5,8.4,0]
["10",96,1007.9,3.3,8,null,"10",51,993.1,7.4,1]
["11",96,1007.7,3.8,8,null,"11",49,993.5,7.4,1]
["12",95,1006.8,3.8,8,null,"12",46,994.3,7.1,1]
["13",94,1006.6,3.9,8,null,"13",45,995.5,7.1,1]
["14",95,1005.2,4.0999999999999996,8,null,"14",45,996.1,6.9,4]
[15,95,1003.3,4.2,8,null,"15",46,997,6.5,6]
["16",96,1001.8,4.5,8,null,"16",63,999,8,7]
["17",96,1001.8,4.5,8,null,"17",64,1001.6,6.2,8]
[18,96,1000.6,4.7,8,null,"18",63,1003.5,3.9,8]
["19",96,999.7,4.9000000000000004,8,null,"19",58,1005,3.3,7]
["20",96,998.4,5,8,null,"20",65,1006,3.3,8]
["21",96,997.6,5,8,null,"21",68,1007.4,3.6,7]
["22",96,996.4,5.2,8,null,"22",70,1008.4,3.4,6]
["23",96,994.8,5.4,8,null,"23",68,1009.3,2.9,7]
["Mittel",{"$f":"ROUND(AVERAGE(B3:B26),1)","v":95.2},{"$f":"ROUND(AVERAGE(C3:C26),1)","v":1005.1},{"$f":"AVERAGE(D3:D26)","v":3.5750000000000006},{"$f":"ROUND(AVERAGE(E3:E26),1)","v":8},null,"Mittel",{"$f":"ROUND(AVERAGE(H3:H26),1)","v":66.400000000000006},{"$f":"ROUND(AVERAGE(I3:I26),1)","v":996.6},{"$f":"AVERAGE(J3:J26)","v":7.6000000000000014},{"$f":"ROUND(AVERAGE(K3:K26),1)","v":4.9000000000000004}]
[]
[null,null,null,"2018-10-29",null,null,null,null,null,"2018-10-30"]
[]
[]
["Stunde","Luftfeuchtigkeit","Luftdruck","Taupunkttemperatur","Bewölkung",null,"Stunde","Luftfeuchtigkeit","Luftdruck","Taupunkttemperatur","Bewölkung"]
["00",66,1010.2,2.2000000000000002,3,null,"00",83,1012.3,2.8,7]
["01",66,1011.7,1.8,3,null,"01",83,1012.6,2.6,8]
["02",70,1012.9,0.5,1,null,"02",82,1012.3,2.2000000000000002,8]
["03",73,1013.8,1.5,0,null,"03",82,1012.7,1.9,7]
["04",78,1014.9,1.5,0,null,"04",83,1012.1,1.5,8]
["05",76,1015.6,1.5,0,null,"05",83,1012.8,1.5,7]
["06",74,1016.3,1.4,0,null,"06",82,1012.8,1.5,8]
["07",74,1017.4,0.9,1,null,"07",86,1012.7,1.5,8]
["08",80,1018.3,1.6,1,null,"08",87,1013.1,1.8,8]
["09",74,1019.2,2.9,1,null,"09",86,1013.3,2,8]
["10",58,1019.3,2.9,1,null,"10",86,1013.2,2.2999999999999998,8]
["11",56,1019.7,3.3,1,null,"11",85,1012.9,2.5,8]
["12",52,1020.1,3.3,1,null,"12",84,1012.7,2.7,8]
["13",48,1020,3.1,3,null,"13",82,1012.2,2.6,8]
["14",50,1019.7,3.7,5,null,"14",84,1011.4,2.5,8]
["15",50,1019.6,2.7,4,null,"15",89,1011.1,2.4,8]
["16",54,1019.6,2.4,5,null,"16",91,1011.7,2.2999999999999998,8]
["17",58,1019.4,2.8,7,null,"17",92,1011.7,1.9,8]
["18",61,1019.7,2.5,6,null,"18",92,1012.2,1.4,8]
["19",65,1019.5,2.7,5,null,"19",93,1011.7,1.5,8]
["20",72,1019,2.9,3,null,"20",94,1011,1.7,8]
["21",78,1018.8,3.1,5,null,"21",92,1010.6,1.5,8]
["22",81,1018.3,3,4,null,"22",93,1010.7,1.8,8]
["23",85,1017.4,2.9,5,null,"23",93,1010.3,1.8,8]
["Mittel",{"$f":"ROUND(AVERAGE(B33:B56),1)","v":66.599999999999994},{"$f":"ROUND(AVERAGE(C33:C56),1)","v":1017.5},{"$f":"ROUND(AVERAGE(D33:D56),1)","v":2.4},{"$f":"ROUND(AVERAGE(E33:E56),1)","v":2.7},null,"Mittel",{"$f":"ROUND(AVERAGE(H33:H56),1)","v":87},{"$f":"ROUND(AVERAGE(I33:I56),1)","v":1012.1},{"$f":"ROUND(AVERAGE(J33:J56),1)","v":2},{"$f":"ROUND(AVERAGE(K33:K56),1)","v":7.9}]
[]
[null,null,null,"2018-10-31",null,null,null,null,null,"2018-10-28"]

{"sheet":"Kurztab.","index":1,"n_rows":113,"n_cols":45,"rows_kept":113,"cut":false,"hidden":false,"merged":[[1,12,1,13]]}
[]
["Wetterwarte: Köttewitz",null,null,null,null,null,null,null,null,null,null,"Monat:","Oktober",null,null,null,null,"Jahr:",null,null,"2018"]
[]
["Dat.","TTT","TxTx","TnTn","Tg","Umin.","UU","NN","RRRR","Art",null,"sss","PPPP","eee","fff",null,null,"Tage mit",null,null,null,"fk","Summe "]
[null,null,null,null,null,null,null,null,null,"*",null,null,null,null,"Km/h","SS","Art ( D )","RR","Ge","Bf6","Bf8","Km/h","Gewitter"]
["01.",8.5,13.2,3.1,1.7,60,78,5.9,1.4,"l",null,".",1013.3,4.8,5,null,null,1,null,null,null,34,null,null,null,null,"max >=30,0°C","max >=25,0°C","max  <0,0°C",null,"RR >=0,1 mm","RR >=1,0 mm","RR >=3,0 mm","RR >=10,0 mm","RR >=20,0 mm",null,null,null,null,null,null,null,null,null,"Hellmann"]
["02.",8.8000000000000007,11.3,5.8,5,49,75,7.5,0.4,"l",null,1,1017.3,4.3,14,null,null,1,null,1,null,52,null,null,null,null,{"$f":"COUNTIF(C6:C15,\">=30\")","v":0},{"$f":"COUNTIF(C6:C15,\">=25\")","v":0},{"$f":"COUNTIF(C6:C15,\"<0\")","v":0},null,{"$f":"COUNTIF(I6:I15,\">=0,1\")","v":3},{"$f":"COUNTIF(I6:I15,\">=1\")","v":1},{"$f":"COUNTIF(I6:I15,\">=3\")","v":0},{"$f":"COUNTIF(I6:I15,\">=10\")","v":0},{"$f":"COUNTIF(I6:I15,\">=20\")","v":0},null,null,null,null,null,null,null,null,null,"200 cm3"]
["03.",11.2,14.4,9.4,7.2,56,69,6.2,0.4,"l",null,3,1019.6,5.7,14,null,null,1,null,1,null,52,null,null,null,null,{"$f":"COUNTIF(C18:C27,\">=30\")","v":0},{"$f":"COUNTIF(C18:C27,\">=25\")","v":0},{"$f":"COUNTIF(C18:C27,\"<0\")","v":0},null,{"$f":"COUNTIF(I18:I27,\">=0,1\")","v":1},{"$f":"COUNTIF(I18:I27,\">=1\")","v":0},{"$f":"COUNTIF(I18:I27,\">=3\")","v":0},{"$f":"COUNTIF(I18:I27,\">=10\")","v":0},{"$f":"COUNTIF(I18:I27,\">=20\")","v":0},null,null,null,null,null,null,null,null,null,11.4]
["04.",11.7,16.3,7.8,6.1,54,70,6.1,".",null,null,3,1026.9000000000001,6.3,4,null,null,null,null,null,null,24,null,null,null,null,{"$f":"COUNTIF(C30:C40,\">=30\")","v":0},{"$f":"COUNTIF(C30:C40,\">=25\")","v":0},{"$f":"COUNTIF(C30:C40,\"<0\")","v":0},null,{"$f":"COUNTIF(I30:I40,\">=0,1\")","v":7},{"$f":"COUNTIF(I30:I40,\">=1\")","v":4},{"$f":"COUNTIF(I30:I40,\">=3\")","v":2},{"$f":"COUNTIF(I30:I40,\">=10\")","v":1},{"$f":"COUNTIF(I30:I40,\">=20\")","v":0}]
["05.",12.4,19.899999999999999,5.0999999999999996,2.8,43,68,2.9,".",null,null,7.8,1022.8,6.3,5,null,null,null,null,null,null,29]
["06.",14.8,22.1,8.8000000000000007,6.1,47,65,4.9000000000000004,".",null,null,4.7,1013.3,8.1999999999999993,7,null,null,null,null,null,null,29,null,null,null,null,"min  <0,0°C","min <0-10,0°C",null,null,"rel.Lf. 14h >=70%",null,"rel.Lf. 14h <=40%"]
["07.",12.4,18.3,7.4,5,68,78,6.2,".",null,null,0.8,1015.6,8.9,4,null,null,null,null,null,null,32,null,null,null,null,{"$f":"COUNTIF(D6:D15,\"<0\")","v":0},{"$f":"COUNTIF(D6:D15,\"<=-10\")","v":0},null,null,{"$f":"COUNTIF(F6:F15,\">=70\")","v":0},null,{"$f":"COUNTIF(F6:F15,\"<=40\")","v":0}]
["08.",9.6999999999999993,16,3.4,1.7,66,82,3.6,".",null,null,3.8,1023,6.7,1,null,null,null,null,null,null,11,null,null,null,null,{"$f":"COUNTIF(D18:D27,\"<0\")","v":0},{"$f":"COUNTIF(D18:D27,\"<=-10\")","v":0},null,null,{"$f":"COUNTIF(F18:F27,\">=70\")","v":1},null,{"$f":"COUNTIF(F18:F27,\"<=40\")","v":3}]
["09.",12.9,21,7.3,5.6,58,80,5.7,".",null,null,3.8,1023.6,9.4,1,null,null,null,null,null,null,16,null,null,null,null,{"$f":"COUNTIF(D30:D40,\"<0\")","v":0},{"$f":"COUNTIF(D30:D40,\"<=-10\")","v":0},null,null,{"$f":"COUNTIF(F30:F40,\">=70\")","v":2},null,{"$f":"COUNTIF(F30:F40,\"<=40\")","v":0}]
["10.",15.6,23.3,8.1999999999999993,5,51,74,2.4,".",null,null,7.1,1022.3,10.5,9,null,null,null,null,null,null,34]
["Su",{"$f":"SUM(B6:B15)","v":118.00000000000001},{"$f":"SUM(C6:C15)","v":175.8},{"$f":"SUM(D6:D15)","v":66.3},{"$f":"SUM(E6:E15)","v":46.2},"XXX","XXX","XXX",{"$f":"SUM(I6:I15)","v":2.1999999999999997},"XX",null,{"$f":"SUM(L6:L15)","v":35},"XXX","XXX","XXX","XXX","X",{"$f":"SUM(R6:R15)","v":3},{"$f":"SUM(S6:S15)","v":0},{"$f":"SUM(T6:T15)","v":2},{"$f":"SUM(U6:U15)","v":0},"XXX",null,null,null,null,"ohne Sonne","Son. 0,1-0,9","Son.  >=10,0",null,"Sch. >=1 cm","Sch. >=3 cm","Sch. >=10 cm"]
["Mi",{"$f":"AVERAGE(B6:B15)","v":11.8},{"$f":"AVERAGE(C6:C15)","v":17.580000000000002},6.63,4.62,55.2,73.900000000000006,5.1400000000000006,"XXX","XX",null,"XXX",{"$f":"AVERAGE(M6:M15)","v":1019.7699999999999},{"$f":"AVERAGE(N6:N15)","v":7.1099999999999994},{"$f":"AVERAGE(O6:O15)","v":6.4},{"$f":"AVERAGE(P6:P15)","v":{"$error":"#DIV/0!"}},"X","XX","XX","XX","XX",{"$f":"AVERAGE(V6:V15)","v":31.3},null,null,null,null,{"$f":"COUNTIF(L6:L15,\".\")","v":1},{"$f":"COUNTIF(L6:L15,\"<1\")","v":1},{"$f":"COUNTIF(L6:L15,\">=10\")","v":0},null,{"$f":"COUNTIF(P6:P15,\">=1\")","v":0},{"$f":"COUNTIF(P6:P15,\">=3\")","v":0},{"$f":"COUNTIF(P6:P15,\">=10\")","v":0}]
["11.",18.3,24.3,14.1,11.1,35,58,0.6,".",null,null,6.4,1018.2,9.4,11,null,null,null,null,1,null,45,null,null,null,null,{"$f":"COUNTIF(L18:L27,\".\")","v":1},{"$f":"COUNTIF(L18:L27,\"<1\")","v":0},{"$f":"COUNTIF(L18:L27,\">=10\")","v":0},null,{"$f":"COUNTIF(P18:P27,\">=1\")","v":0},{"$f":"COUNTIF(P18:P27,\">=3\")","v":0},{"$f":"COUNTIF(P18:P27,\">=10\")","v":0}]
["12.",16.7,24.3,12.1,7.8,45,65,0.8,".",null,null,6.2,1022.9,10,6,null,null,null,null,null,null,24,null,null,null,null,{"$f":"COUNTIF(L30:L40,\".\")","v":4},{"$f":"COUNTIF(L30:L40,\"<1\")","v":3},{"$f":"COUNTIF(L30:L40,\">=10\")","v":0},null,{"$f":"COUNTIF(P30:P40,\">=1\")","v":0},{"$f":"COUNTIF(P30:P40,\">=3\")","v":0},{"$f":"COUNTIF(P30:P40,\">=10\")","v":0}]
["13.",16.100000000000001,22.6,10.6,7.2,43,65,0,".",null,null,6.2,1024.0999999999999,9,7,null,null,null,null,null,null,29]
["14.",17.3,23.9,12.2,8.9,35,54,0,".",null,null,6.2,1017,7.5,10,null,null,null,null,1,null,39,null,null,null,null,"Max TT","Max TxTx","Min TgTg",null,"Max RR"]
["15.",15.7,21.2,11.3,8.3000000000000007,33,49,4.0999999999999996,".",null,null,1.3,1016.6,4.5999999999999996,8,null,null,null,null,null,null,37,null,null,null,null,{"$f":"MAX(B6:B15,B18:B27,B30:B40)","v":18.3},{"$f":"MAX(C6:C15,C18:C27,C30:C40)","v":24.3},{"$f":"MIN(E6:E15,E18:E27,E30:E40)","v":-0.6},null,{"$f":"MAX(I6:I15,I18:I27,I30:I40)","v":13.4}]
["16.",15.2,21.4,9,6.7,43,60,3,".",null,null,6.6,1018.2,7.3,6,null,null,null,null,null,null,21,null,null,null,null,"Min TT","Min TnTn","Min U14",null,"Max SS"]
["17.",12.7,20.6,6.9,5,50,73,0.6,".",null,null,6.2,1019.4,7.6,2,null,null,null,null,null,null,15,null,null,null,null,{"$f":"MIN(B6:B15,B18:B27,B30:B40)","v":3.9},{"$f":"MIN(D6:D15,D18:D27,D30:D40)","v":2.1},{"$f":"MIN(F6:F15,F18:F27,F30:F40)","v":33},null,{"$f":"MAX(P6:P15,P18:P27,P30:P40)","v":0}]
["18.",11.9,17.899999999999999,7.2,5,63,82,2.8,0.3,"l",null,5.7,1020.9,8.8000000000000007,3,null,null,1,null,null,null,24]
["19.",11.5,12.3,10.5,9.4,89,93,8,".",null,null,".",1024.5,10.4,1,null,null,null,null,null,null,15]
["20.",9.9,12.8,7.8,6.7,63,81,7,".",null,null,1.8,1028.0999999999999,6.1,3,null,null,null,null,null,null,23]
["Su",{"$f":"SUM(B18:B27)","v":145.30000000000004},{"$f":"SUM(C18:C27)","v":201.3},{"$f":"SUM(D18:D27)","v":101.7},{"$f":"SUM(E18:E27)","v":76.100000000000009},"XXX","XXX","XXX",{"$f":"SUM(I18:I27)","v":0.3},"XX",null,{"$f":"SUM(L18:L27)","v":46.6},"XXX","XXX","XXX","XXX","X",{"$f":"SUM(R18:R27)","v":1},{"$f":"SUM(S18:S27)","v":0},{"$f":"SUM(T18:T27)","v":2},{"$f":"SUM(U18:U27)","v":0},"XXX"]
["Mi",{"$f":"AVERAGE(B18:B27)","v":14.530000000000005},{"$f":"AVERAGE(C18:C27)","v":20.130000000000003},10.17,7.6100000000000012,49.9,68,2.69,"XXX","XX",null,"XXX",{"$f":"AVERAGE(M18:M27)","v":1020.99},{"$f":"AVERAGE(N18:N27)","v":8.07},{"$f":"AVERAGE(O18:O27)","v":5.7},{"$f":"AVERAGE(P18:P27)","v":{"$error":"#DIV/0!"}},"X","XX","XX","XX","XX",{"$f":"AVERAGE(V18:V27)","v":27.2}]
["21.",8.8000000000000007,13.4,2.8,1.1000000000000001,57,78,4.3,".",null,null,2.8,1028.9000000000001,5.2,1,null,null,null,null,null,null,15]
["22.",6.7,14.1,2.1,-0.6,64,88,5,1.8,"l",null,0.4,1028.2,4.7,3,null,null,1,null,null,null,37]
["23.",8.1,10.4,4.8,2.8,67,84,6.5,8.6,"l",null,".",1018.7,5.3,16,null,null,1,null,1,null,58]
["24.",9.3000000000000007,11.1,7.6,5.6,54,80,6.4,1.7,"l",null,1.2,1014.2,5.9,16,null,null,1,null,1,1,79]
["25.",11.4,13.9,8.4,7.8,69,82,7.6,0.3,"l",null,0.1,1013.7,8.4,13,null,null,1,null,1,null,55]
["26.",10.3,13.3,8.3000000000000007,7.8,64,78,7.2,0,"l",null,0.4,1008.7,6.5,6,null,null,null,null,null,null,26]
["27.",7.8,10,5.0999999999999996,4.4000000000000004,64,72,7.5,".",null,null,".",1007.1,3.2,6,null,null,null,null,null,null,34]
["28.",3.9,5.6,2.4,2.2000000000000002,82,87,7.9,13.4,"l",null,".",1012.1,2,6,null,null,1,null,null,null,29]
["29.",4.3,5.9,2.8,2.8,92,95,8,0.4,"l",null,".",1005.1,3.6,3,null,null,1,null,null,null,19]
["30.",14.2,19.5,5.7,4.4000000000000004,43,66,4.9000000000000004,0.1,"l",null,4.3,996.6,7.6,14,null,null,1,null,1,null,55]
["31.",8.5,14.2,4.5,1.7,46,67,2.7,".",null,null,4.9000000000000004,1017.5,2.4,6,null,null,null,null,null,null,31]
["Su",{"$f":"SUM(B30:B40)","v":93.300000000000011},{"$f":"SUM(C30:C40)","v":131.4},{"$f":"SUM(D30:D40)","v":54.5},{"$f":"SUM(E30:E40)","v":40},"XXX","XXX","XXX",{"$f":"SUM(I30:I40)","v":26.3},"XX",null,{"$f":"SUM(L30:L40)","v":14.1},"XXX","XXX","XXX","XXX","X",{"$f":"SUM(R30:R40)","v":7},{"$f":"SUM(S30:S40)","v":0},{"$f":"SUM(T30:T40)","v":4},{"$f":"SUM(U30:U40)","v":1},"XXX"]
["Mi",{"$f":"AVERAGE(B30:B40)","v":8.4818181818181824},11.945454545454545,4.9545454545454541,3.6363636363636362,63.81818181818182,79.727272727272734,6.1818181818181834,"XXX ","XX",null,"XXX ",{"$f":"AVERAGE(M30:M40)","v":1013.7090909090911},{"$f":"AVERAGE(N30:N40)","v":4.9818181818181824},{"$f":"AVERAGE(O30:O40)","v":8.1818181818181817},{"$f":"AVERAGE(P30:P40)","v":{"$error":"#DIV/0!"}},"X","XX","XX","XX","XX",{"$f":"AVERAGE(V30:V40)","v":39.81818181818182}]
["MSu",{"$f":"SUM(B16+B28+B41)","v":356.60000000000008},{"$f":"SUM(C16+C28+C41)","v":508.5},{"$f":"SUM(D16+D28+D41)","v":222.5},{"$f":"SUM(E16+E28+E41)","v":162.30000000000001},"XXX","XXX","XXX",{"$f":"SUM(I16+I28+I41)","v":28.8},"XX",null,{"$f":"SUM(L16+L28+L41)","v":95.699999999999989},"XXX","XXX","XXX","XXX","X",{"$f":"SUM(R16+R28+R41)","v":11},{"$f":"SUM(S16+S28+S41)","v":0},{"$f":"SUM(T16+T28+T41)","v":8},{"$f":"SUM(U16+U28+U41)","v":1},"XXX"]
["MMi",{"$f":"AVERAGE(B6:B15,B18:B27,B30:B40)","v":11.503225806451612},16.403225806451612,7.17741935483871,5.2354838709677436,56.548387096774192,74.064516129032256,4.7193548387096778,"XXXXX","XX",null,"XXXX",{"$f":"AVERAGE(M6:M15,M18:M27,M30:M40)","v":1018.0129032258066},{"$f":"AVERAGE(N6:N15,N18:N27,N30:N40)","v":6.6645161290322568},{"$f":"AVERAGE(O6:O15,O18:O27,O30:O40)","v":6.806451612903226},{"$f":"AVERAGE(P17,P29,P42)","v":{"$error":"#DIV/0!"}},"X","XX","XX","XX","XX",{"$f":"AVERAGE(V17,V29,V42)","v":32.772727272727273}]
[]
[null,"Norm","% v N.-","Abw.","Zahl der Tage",null,null,null,null,null,null,"Niederschlag mm",null,null,null,"Sonnensch.-dauer Std"]
[null,"wert","wert","K","Max.d.Lufttemp.°C",null,null,null,null,null,null,">/=  0,1",null,null,{"$f":"SUM(AE7:AE9)","v":11},"ohne Sonne",null,null,null,null,null,{"$f":"SUM(AA17:AA19)","v":6}]
["TTT",9.8000000000000007,"XXXX",{"$f":"SUM(B44-B48)","v":1.703225806451611},"Tropentag/Hitzetag",null,null,null,{"$f":"SUM(AA7:AA9)","v":0},null,null,">/=  1,0",null,null,{"$f":"SUM(AF7:AF9)","v":5},"0,1 bis 0,9",null,null,null,null,null,{"$f":"SUM(AB17:AB19)","v":4}]
["RRR",43,{"$f":"SUM(I43*100/B49)","v":66.976744186046517},"XXXX","Sommertag",null,null,null,{"$f":"SUM(AB7:AB9)","v":0},null,null,">/=  3,0",null,null,{"$f":"SUM(AG7:AG9)","v":2},">/= 10,0",null,null,null,null,null,{"$f":"SUM(AC17:AC19)","v":0}]
["sss",120,{"$f":"SUM(L43*100/B50)","v":79.749999999999986},"XXXX","Eistag",null,null,null,{"$f":"SUM(AC7:AC9)","v":0},null,null,">/=10,0",null,null,{"$f":"SUM(AH7:AH9)","v":1},"Schneedecke cm"]
["astr.",null,null,"XXXX","Polartag",null,null,null,0,null,null,">/=  20,0",null,null,{"$f":"SUM(AI7:AI9)","v":0},">/=   1",null,null,null,null,null,{"$f":"SUM(AE17:AE19)","v":0}]
["mgl.",333,{"$f":"SUM(L43*100/B52)","v":28.738738738738732},"XXXX","Min.d.Lufttemp.°C",null,null,null,null,null,null,"Rel. Luftfeuchte 14 Uhr",null,null,null,">/=   3",null,null,null,null,null,{"$f":"SUM(AF17:AF19)","v":0}]
["sss",null,null,"XXXX","Frosttag",null,null,null,{"$f":"SUM(AA12:AA14)","v":0},null,null,">/=70%",null,null,{"$f":"SUM(AE12:AE14)","v":3},">/= 10",null,null,null,null,null,{"$f":"SUM(AG17:AG19)","v":0}]
[null,null,null,null,"Tropennacht",null,null,null,0,null,null,"</=40%",null,null,{"$f":"SUM(AG12:AG14)","v":3}]
[]
[]
[null,null,null,null,"Unter \"Tage mit\" sind die Angaben Bft 6 & Bft 8 nicht 10 min. - Mittel sonder 2,5 s - Werte."]
[null,null,null,null,"Wenn ein Wert auch mit einem 10 min. - Wert erreicht wird, erfolgt eine rote Markierung."]
[null,null,null,null,"Dies gilt rückwirkend bis November 2012."]
[]
[]
[]
[]
[]
[]
[]
[]
[]
[]
[]
[]
[]
[]
[]
[]
[]
[]
[]
[]
[]
[]
[]
[]
[]
[]
[]
[]
[]
[]
[]
[]
[]
[]
[]
[]
[]
[]
[]
[]
[]
[]
[]
[]
[]
[]
[]
[]
[]
[]
[]
[]
[]
[null,null,null,null,null,"Tage mit Bft 6 /8 eigentlich in 10 min. - Mittel"]

{"sheet":"Sichtst.","index":2,"n_rows":43,"n_cols":18,"rows_kept":43,"cut":false,"hidden":false,"merged":[[4,6,4,7]]}
[null,null,null,null,"Sichtweitenstatistik "]
[]
[]
[]
[null,"Wetterstation: Köttewitz",null,null,null,"Monat:","Oktober",null,null,null,"Jahr:",2018]
[]
["Dat.","Nebeldauer","Nebel","Dunst","Sicht","Sicht","Sicht","Sicht"]
[null,"in St. u. Min.",null,null,"mittel","normal","gut","sehr gut"]
["01.",null,null,null,null,1,1,null,null,null,null,null,null,{"$f":"IF(ISNUMBER(B9),B9*24,\" \")","v":" "},{"$f":"IF(ISNUMBER(N9),IF(N9<1,1,\" \"),\" \")","v":" "},{"$f":"IF(ISNUMBER(N9),IF(N9<8,2,\" \"),\" \")","v":" "},{"$f":"IF(ISNUMBER(N9),IF(N9<24,3,\" \"),\" \")","v":" "},{"$f":"MIN(O9:Q9)","v":0}]
["02.",null,null,null,1,1,1,null,null,null,null,null,null," "," "," "," ",0]
["03.",null,null,null,null,1,null,null,null,null,null,null,null," "," "," "," ",0]
["04.",null,null,null,null,1,null,null,null,null,null,null,null," "," "," "," ",0]
["05.",null,null,null,null,1,null,null,null,null,null,null,null," "," "," "," ",0]
["06.",null,null,null,null,1,null,null,null,null,null,null,null," "," "," "," ",0]
["07.",null,null,null,1,1,null,null,null,null,null,null,null," "," "," "," ",0]
["08.",null,null,null,null,1,null,null,null,null,null,null,null," "," "," "," ",0]
["09.",null,null,1,1,1,null,null,null,null,null,null,null," "," "," "," ",0]
["10.",null,null,null,1,1,null,null,null,null,null,null,null," "," "," "," ",0]
["11.",null,null,null,null,1,null,null,null,null,null,null,null," "," "," "," ",0]
["12.",null,null,null,null,1,null,null,null,null,null,null,null," "," "," "," ",0]
["13.",null,null,null,null,1,null,null,null,null,null,null,null," "," "," "," ",0]
["14.",null,null,null,null,1,null,null,null,null,null,null,null," "," "," "," ",0]
["15.",null,null,null,null,1,null,null,null,null,null,null,null," "," "," "," ",0]
["16.",null,null,null,null,1,null,null,null,null,null,null,null," "," "," "," ",0]
["17.",null,null,null,null,1,null,null,null,null,null,null,null," "," "," "," ",0]
["18.","00:30:00",1,1,1,1,null,null,null,null,null,null,null,0.5,1,2,3,1]
["19.","11:30:00",1,1,1,1,null,null,null,null,null,null,null,11.5," "," ",3,3]
["20.",null,null,null,1,1,null,null,null,null,null,null,null," "," "," "," ",0]
["21.",null,null,null,null,1,null,null,null,null,null,null,null," "," "," "," ",0]
["22.",null,null,1,1,1,null,null,null,null,null,null,null," "," "," "," ",0]
["23.",null,null,1,1,1,null,null,null,null,null,null,null," "," "," "," ",0]
["24.",null,null,1,1,1,1,null,null,null,null,null,null," "," "," "," ",0]
["25.",null,null,1,1,1,null,null,null,null,null,null,null," "," "," "," ",0]
["26.",null,null,null,1,1,null,null,null,null,null,null,null," "," "," "," ",0]
["27.",null,null,null,1,1,1]
["28.",null,null,1,1,1]
["29.",null,null,1,1,1]
["30.",null,null,1,1,1,1,1]
["31.",null,null,null,null,1,1,1]
["Su.",{"$f":"SUM(B9:B39)","v":"12:00:00"},2,10,16,31,6,2]
[]
[null,"Anzahl der Nebeltage                  :",null,null,{"$f":"SUM(C40)","v":2}]
[null,"Anzahl der Tage Sicht >= 50 km :",null,null,{"$f":"SUM(G40)","v":6}]

{"sheet":"Monatsdiagramm","index":3,"n_rows":68,"n_cols":9,"rows_kept":68,"cut":false,"hidden":false,"merged":[[2,0,2,1],[5,4,5,5],[7,4,7,5]]}
["Klimadiagramm",null,"Wetterstation Köttewitz",null,null,null,null,null,"(214 m ü. NHN)"]
[]
["Oktober 2018"]
[]
[null,null,"aktuell","langj.  Mittel ","Abw. vom lj. Mittel"]
[null,"höchste Temperatur (°C):",{"$f":"MAX('Daten für Diagr.'!C2:C32)","v":24.3},"am","11./12.10.18"]
[null,"mittlere Temperatur (°C):",{"$f":"'Daten für Diagr.'!B33","v":11.503225806451612},{"$f":"Kurztab.!B48","v":9.8000000000000007},{"$f":"C7-D7","v":1.703225806451611},"K"]
[null,"tiefste Temperatur (°C):",{"$f":"MIN('Daten für Diagr.'!D2:D32)","v":2.1},"am","2018-10-22"]
[null,"Niederschlagshöhe (mm):",{"$f":"Kurztab.!I43","v":28.8},{"$f":"Kurztab.!B49","v":43},{"$f":"100/D9*C9","v":66.976744186046517},"%"]
[null,"Sonnenscheindauer (Std.)*:",{"$f":"Kurztab.!L43","v":95.699999999999989},{"$f":"Kurztab.!B50","v":120},{"$f":"100/D10*C10","v":79.75},"%"]
[]
[]
[]
[]
[]
[]
[]
[]
[]
[]
[]
[]
[]
[]
[]
[]
[]
[]
[]
[]
[]
[]
[]
[]
[]
[]
[]
[]
[]
[]
[]
[]
[]
[]
[]
[]
[]
[]
[]
[]
[]
[]
[]
[]
[]
[]
[]
[]
[]
[]
[]
[]
[]
[]
[]
["*Die Wetterstation kann, durch geographische Hindernisse, nicht die maximal mögliche Sonnenscheindauer aufzeichnen. Es gilt ein Übergangsprozentsatz von:"]
["Dez 30 %; Okt/Nov & Jan/Feb 40 %; Mär & Sep 65 %; Apr & Aug 80 %; Mai - Jul 90 %. Durch Baumfällarbeiten seit Orkan Herwart (Okt 2017) Okt & Feb 50 %."]
["Diese Werte entsprechend annähernd 100 % (Normalwert Köttewitz). Nach 10 Jahren erfolgt die Umstellung des Prozentsatzes nach der örtlichen Aufzeichnung."]

{"sheet":"Daten für Diagr.","index":4,"n_rows":120,"n_cols":12,"rows_kept":120,"cut":false,"hidden":false,"merged":[]}
[null,"Td","Tmax","Tmin","RR","Schnee","Sonne","Luftdr.","MWT","GWL","Name","Sonstiges"]
["2018-10-01",8.5,13.2,3.1,1.4,null,null,1013.3,12.05,"NWz","T Jessika","Von  17:00 Uhr- 17:39 Uhr mäßiger Regen, unterbrochen (WW 62). Von 18:00 Uhr - 18:55 Uhr leichter Regen (WW 61)."]
["2018-10-02",8.8000000000000007,11.3,5.8,0.4,null,1,1017.3,11.9,null,null,"Gegen 13:40 Uhr leichter Regenschauer (WW 80). Um 04:40 Uhr mäßiger Regen (WW 63). Abends leichter Regen (WW 61)."]
["2018-10-03",11.2,14.4,9.4,0.4,null,3,1019.6,11.75,"NWa","H Ulf","Von 08:30 Uhr - 08:49 Uhr leichter Regenschauer (WW 80). "]
["2018-10-04",11.7,16.3,7.8,null,null,3,1026.9000000000001,11.6]
["2018-10-05",12.4,19.899999999999999,5.0999999999999996,null,null,7.8,1022.8,11.45,"Sa"]
["2018-10-06",14.8,22.1,8.8000000000000007,null,null,4.7,1013.3,11.3,"TrW","T Liangyu"]
["2018-10-07",12.4,18.3,7.4,null,null,0.8,1015.6,11.15,"BM","H Viktor"]
["2018-10-08",9.6999999999999993,16,3.4,null,null,3.8,1023,11]
["2018-10-09",12.9,21,7.3,null,null,3.8,1023.6,10.85,"Sa"]
["2018-10-10",15.6,23.3,8.1999999999999993,null,null,7.1,1022.3,10.7]
["2018-10-11",18.3,24.3,14.1,null,null,6.4,1018.2,10.55]
["2018-10-12",16.7,24.3,12.1,null,null,6.2,1022.9,10.4]
["2018-10-13",16.100000000000001,22.6,10.6,null,null,6.2,1024.0999999999999,10.25]
["2018-10-14",17.3,23.9,12.2,null,null,6.2,1017,10.1]
["2018-10-15",15.7,21.2,11.3,null,null,1.3,1016.6,9.9499999999999993]
["2018-10-16",15.2,21.4,9,null,null,6.6,1018.2,9.8000000000000007]
["2018-10-17",12.7,20.6,6.9,null,null,6.2,1019.4,9.65]
["2018-10-18",11.9,17.899999999999999,7.2,0.3,null,5.7,1020.9,9.5,"BM","H Wolfgang"]
["2018-10-19",11.5,12.3,10.5,null,null,null,1024.5,9.35]
["2018-10-20",9.9,12.8,7.8,null,null,1.8,1028.0999999999999,9.1999999999999993]
["2018-10-21",8.8000000000000007,13.4,2.8,null,null,2.8,1028.9000000000001,9.0500000000000007]
["2018-10-22",6.7,14.1,2.1,1.8,null,0.4,1028.2,8.9,"NWa","H Xerxes","Zwischen 15:30 Uhr - 17:29 Uhr leichter Sprühregen bis mäßiger Regen (WW 51 - 63). Gegen 14:00 Uhr leichter Sprühregen (WW 51)."]
["2018-10-23",8.1,10.4,4.8,8.6,null,null,1018.7,8.75,"NWz","T Siglinde","Von 12:40 Uhr - 12:49 Uhr starker Regen (WW 65). Von 12:30 Uhr - 12:39 Uhr; 20:30 Uhr - 23:59 Uhr mäßiger Regen (WW 63)."]
["2018-10-24",9.3000000000000007,11.1,7.6,1.7,null,1.2,1014.2,8.6,null,null,"Von 00:00 Uhr - 08:09 Uhr Dauerregen, teils stark (WW 61-65)."]
["2018-10-25",11.4,13.9,8.4,0.3,null,0.1,1013.7,8.4499999999999993,null,"T Tina","Von 00:20 Uhr - 02:19 Uhr mäßiger Regen (WW 63). Abends leichter Sprühregen (WW 51)."]
["2018-10-26",10.3,13.3,8.3000000000000007,null,null,0.4,1008.7,8.3000000000000007,"TrW","T Uta","Gegen 01:20 Uhr leichter Regenschauer (WW 81). Vormittags leichter Sprühregen (WW 51)."]
["2018-10-27",7.8,10,5.0999999999999996,null,null,null,1007.1,8.15,null,null,"Gegen 08:00 Uhr leichter Sprühregen (WW 51)."]
["2018-10-28",3.9,5.6,2.4,13.4,null,null,1012.1,8,null,"T Vaia","Von 14:20 Uhr - 23:59 Uhr Dauerregen (WW 61-65), Gegen 20:00 Uhr mit Schnee (WW 68), danach Sprühregen (WW 51-53)."]
["2018-10-29",4.3,5.9,2.8,0.4,null,null,1005.1,7.85,null,null,"Von 00:00 Uhr - 15:59 Uhr leichter Sprühregen (WW 51)."]
["2018-10-30",14.2,19.5,5.7,0.1,null,4.3,996.6,7.7,null,null,"Gegen 17:30 Uhr leichter Regen (WW 61)."]
["2018-10-31",8.5,14.2,4.5,null,null,4.9000000000000004,1017.5,7.55,null,"T Wenke"]
["Durchschnitt",{"$f":"AVERAGE(B2:B32)","v":11.503225806451612},{"$f":"AVERAGE(C2:C32)","v":16.403225806451612},{"$f":"AVERAGE(D2:D32)","v":7.17741935483871},"-",null,{"$f":"AVERAGE(G2:G32)","v":3.8280000000000007},{"$f":"AVERAGE(H2:H32)","v":1018.0129032258066},{"$f":"AVERAGE(I2:I32)","v":9.8000000000000007}]
["Mittel",9.8000000000000007,null,null,43,"-",120,1017.2]
[]
[]
[]
[]
[]
[]
[]
[]
[]
[]
[]
[]
[]
[]
[]
[]
[]
[]
[]
[]
[]
[]
[]
[]
[]
[]
[]
[]
[]
[]
[]
[]
[]
[]
[]
[]
[]
[]
[]
[]
[]
[]
[]
[]
[]
[]
[]
[]
[]
[]
[]
[]
[]
[]
[]
[1]
[2]
[3]
[4]
[5]
[6]
[7]
[8]
[9]
[10]
[11]
[12]
[13]
[14]
[15]
[16]
[17]
[18]
[19]
[20]
[21]
[22]
[23]
[24]
[25]
[26]
[27]
[28]
[29]
[30]
[31]

{"sheet":"Erdboden","index":6,"n_rows":48,"n_cols":11,"rows_kept":48,"cut":false,"hidden":false,"merged":[[47,2,47,11],[43,2,43,11],[44,2,44,11],[46,2,46,11],[45,2,45,11],[42,2,42,11],[4,9,5,9],[4,10,5,10],[4,5,5,5],[4,6,5,6],[4,7,5,7],[4,8,5,8]]}
[null,null,null,null,null,"Erdbodenstatistik "]
[]
[null,"Wetterstation: ","Köttewitz",null,"Monat:","Oktober",null,null,null,"Jahr:",2018]
[]
["Dat.","Temperatur","Temperatur","Temperatur","Temperatur","NN","0 °C - Grenze","5 °C - Grenze","10 °C - Grenze","15 °C - Grenze","20 °C - Grenze"]
[null,"5 cm","-10 cm","- 20 cm","- 35 cm"]
["01.","5,6 °C/15,6 °C/7,8 °C","6,7 °C/11,7 °C/10,0 °C","7,8 °C/10,6 °C/10,6 °C","10,6 °C/10,6 °C/10,6 °C","n","> 50 cm","> 50 cm","< 22 > 50 cm"]
["02.","6,1 °C/12,8 °C/9,4 °C","8,3 °C/12,2 °C/10,6 °C","9,4 °C/11,1 °C/10,6 °C","10,6 °C/10,6 °C/11,1 °C","t","> 50 cm","> 50 cm","< 4 > 50 cm"]
["03.","10,0 °C/14,4 °C/8,9 °C","8,9 °C/12,8 °C/10,6 °C","9,4 °C/11,7 °C/11,1 °C","11,1 °C/11,1 °C/11,1 °C","n","> 50 cm","> 50 cm","> 50 cm"]
["04.","7,2 °C/17,8 °C/10,6 °C","8,9 °C/14,4 °C/11,7 °C","10,0 °C/12,8 °C/11,7 °C","11,1 °C/11,1 °C/11,7 °C","n","> 50 cm","> 50 cm","> 50 cm"]
["05.","4,4 °C/18,3 °C/11,1 °C","7,8 °C/15,0 °C/11,1 °C","9,4 °C/12,8 °C/11,7 °C","11,1 °C/11,1 °C/11,7 °C","n","> 50 cm","> 50 cm","> 50 cm"]
["06.","10,0 °C/20,0 °C/12,8 °C","8,3 °C/14,4 °C/12,8 °C","9,4 °C/12,8 °C/12,2 °C","11,1 °C/11,1 °C/11,1 °C","n","> 50 cm","> 50 cm","> 50 cm"]
["07.","9,4 °C/14,4 °C/10,0 °C","10,6 °C/13,3 °C/12,2 °C","11,1 °C/12,8 °C/12,2 °C","11,1 °C/11,7 °C/11,7 °C","n","> 50 cm","> 50 cm","> 50 cm"]
["08.","5,0 °C/15,6 °C/6,7 °C","8,9 °C/13,9 °C/11,1 °C","10,0 °C/12,2 °C/11,7 °C","11,1 °C/11,1 °C/11,1 °C","n","> 50 cm","> 50 cm","< 3 > 50 cm"]
["09.","6,7 °C/20,6 °C/7,8 °C","8,9 °C/14,4 °C/11,7 °C","10,0 °C/12,8 °C/12,2 °C","11,1 °C/11,1 °C/11,7 °C","n","> 50 cm","> 50 cm","> 50 cm"]
["10.","6,7 °C/22,2 °C/16,1 °C","9,4 °C/15,0 °C/13,3 °C","10,6 °C/13,3 °C/13,3 °C","11,1 °C/11,1 °C/11,7 °C","n","> 50 cm","> 50 cm","> 50 cm"]
["11.","13,3 °C/22,2 °C/16,1 °C","11,7 °C/16,1 °C/13,9 °C","11,7 °C/14,4 °C/13,3 °C","11,7 °C/11,7 °C/12,2 °C","h","> 50 cm","> 50 cm","> 50 cm","< 5 > 50 cm"]
["12.","10,6 °C/22,2 °C/10,6 °C","11,1 °C/16,1 °C/13,3 °C","11,7 °C/14,4 °C/13,3 °C","12,2 °C/12,2 °C/12,2 °C","h","> 50 cm","> 50 cm","> 50 cm"]
["13.","8,9 °C/21,1 °C/13,9 °C","10,6 °C/16,1 °C/13,3 °C","11,7 °C/13,9 °C/13,3 °C","12,2 °C/12,2 °C/12,2 °C","h","> 50 cm","> 50 cm","> 50 cm"]
["14.","12,8 °C/22,2 °C/15,0 °C","11,1 °C/16,1 °C/13,3 °C","11,7 °C/13,9 °C/13,3 °C","12,2 °C/12,2 °C/12,2 °C","h","> 50 cm","> 50 cm","> 50 cm","< 2 > 50 cm"]
["15.","11,1 °C/20,0 °C/15,0 °C","10,6 °C/13,9 °C/12,8 °C","11,7 °C/12,8 °C/12,8 °C","12,2 °C/11,7 °C/12,2 °C","n","> 50 cm","> 50 cm","> 50 cm"]
["16.","12,2 °C/20,0 °C/10,0 °C","12,2 °C/16,1 °C/12,8 °C","12,2 °C/13,9 °C/12,8 °C","12,2 °C/12,2 °C/12,2 °C","n","> 50 cm","> 50 cm","> 50 cm"]
["17.","5,6 °C/19,4 °C/8,3 °C","10,0 °C/14,4 °C/11,7 °C","11,1 °C/13,3 °C/12,2 °C","12,2 °C/12,2 °C/12,2 °C","h","> 50 cm","> 50 cm","> 50 cm"]
["18.","7,2 °C/17,2 °C/11,7 °C","9,4 °C/13,9 °C/12,2 °C","10,6 °C/12,8 °C/12,2 °C","12,2 °C/12,2 °C/12,2 °C","n","> 50 cm","> 50 cm","> 50 cm"]
["19.","11,1 °C/12,2 °C/10,6 °C","12,2 °C/12,8 °C/12,2 °C","12,2 °C/12,2 °C/12,2 °C","12,2 °C/12,2 °C/12,2 °C","t","> 50 cm","> 50 cm","> 50 cm"]
["20.","7,2 °C/12,8 °C/8,3 °C","11,1 °C/13,3 °C/11,1 °C","11,7 °C/12,8 °C/11,7 °C","12,2 °C/12,2 °C/12,2 °C","t","> 50 cm","> 50 cm","< 1 > 50 cm"]
["21.","8,9 °C/12,2 °C/2,2 °C","10,6 °C/12,8 °C/9,4 °C","11,1 °C/12,2 °C/10,6 °C","12,2 °C/12,2 °C/11,7 °C","n","> 50 cm","> 50 cm","< 8 > 50 cm"]
["22.","0,0 °C/10,6 °C/5,0 °C","6,7 °C/10,6 °C/9,4 °C","8,3 °C/10,0 °C/10,0 °C","11,1 °C/10,6 °C/10,6 °C","n","> 50 cm","> 50 cm","< 25 > 50 cm"]
["23.","4,4 °C/7,8 °C/8,9 °C","7,2 °C/8,9 °C/8,9 °C","8,3 °C/8,9 °C/9,4 °C","10,6 °C/10,0 °C/10,0 °C","t","> 50 cm","> 50 cm","< 32 > 50 cm"]
["24.","7,8 °C/10,6 °C/6,7 °C","9,4 °C/10,6 °C/8,3 °C","9,4 °C/10,0 °C/9,4 °C","10,6 °C/10,6 °C/10,6 °C","n","> 50 cm","> 50 cm","< 26 > 50 cm"]
["25.","10,0 °C/12,8 °C/9,4 °C","9,4 °C/11,7 °C/10,6 °C","9,4 °C/11,1 °C/10,6 °C","10,0 °C/10,6 °C/10,6 °C","t","> 50 cm","> 50 cm","> 50 cm"]
["26.","7,8 °C/13,3 °C/8,9 °C","9,4 °C/11,7 °C/10,0 °C","10,0 °C/11,1 °C/10,6 °C","10,6 °C/10,6 °C/11,1 °C","t","> 50 cm","> 50 cm","< 8 > 50 cm"]
["27.","7,2 °C/10,0 °C/4,4 °C","8,9 °C/10,0 °C/8,3 °C","9,4 °C/10,0 °C/9,4 °C","10,6 °C/10,6 °C/10,6 °C","t","> 50 cm","> 50 cm","< 26 > 50 cm"]
["28.","3,3 °C/3,9 °C/2,2 °C","7,2 °C/7,8 °C/6,1 °C","8,3 °C/8,3 °C/7,2 °C","10,0 °C/9,4 °C/9,4 °C","t","> 50 cm","> 50 cm","< 3 > 50 cm"]
["29.","3,3 °C/4,4 °C/5,6 °C","5,6 °C/6,7 °C/6,7 °C","6,7 °C/6,7 °C/7,2 °C","8,9 °C/8,3 °C/8,3 °C","t","> 50 cm","> 50 cm","> 50 cm"]
["30.","14,4 °C/18,3 °C/8,3 °C","9,4 °C/11,1 °C/9,4 °C","8,9 °C/10,0 °C/9,4 °C","8,3 °C/8,9 °C/9,4 °C","n","> 50 cm","> 50 cm","9 cm"]
["31.","2,2 °C/12,2 °C/3,9 °C","6,1 °C/8,9 °C/6,7 °C","7,2 °C/8,3 °C/7,8 °C","9,4 °C/7,2 °C/7,2 °C","n","> 50 cm","> 50 cm"]
[]
[null,"Werte von 7 Uhr/14 Uhr/21 Uhr MEZ"]
[]
[null,"Mit Gelb markiert ist der Temperaturbereich des Erdbodens."]
[]
[null,"Anzeige Zentibar (cb)","Bodenbedingungen"]
[null,"0-20","Alle Böden sind ausreichend nass. Keine Bewässerung nötig."]
[null,"20-40","Leichte Böden trocknen aus und brauchen Bewässerung, mittelschwere Böden sind gerade noch ausreichend feucht."]
[null,"40-60","Leichte und mittelschwere Böden brauchen bei Pflanzen mit Hauptwurzeln in Sensortiefe Bewässerung. Schwere Böden sind gerade noch ausreichend feucht."]
[null,"60-100","Alle Bodensorten brauchen bei Pflanzen mit Hauptwurzeln in Sensortiefe Bewässerung. Büsche zeigen auf leichten und steinigen Böden Trockenstress."]
[null,"100-200","Trockener Boden. Ohne Bewässerung gibt es bei mitteltief wurzelnden Pflanzen (bis Buschgröße) bereits Trockenschäden auf allen Bodensorten."]