{"text_format":"1","workbook":"xlsx","n_sheets":6,"sheets":["Mittelhilfstabelle","Kurztab.","Sichtst.","Monatsdiagramm","Daten für Diagr.","Modul1"],"not_rendered":{"charts":4,"images":1,"macros":1,"external_links":2,"defined_names":5,"comments":0,"pivot_tables":0},"unopened":[{"sheet":"Modul1","index":5,"reason":"part_missing"}],"bounds":{"document_bytes":16777216,"sheet_cells":100000,"rows_first":2000,"rows_last":500,"rows_between":2000,"halvings":0,"cell_chars":16384,"cell_head_chars":4096},"cells_cut":0,"cells_raw":0,"read":"whole","date_system":"1900"}

{"sheet":"Mittelhilfstabelle","index":0,"n_rows":59,"n_cols":13,"rows_kept":59,"cut":false,"hidden":false,"merged":[]}
[]
["Stunde","Wind","Luftfeuchtigkeit","Luftdruck","Taupunkttemperatur","Bewölkung",null,"Stunde","Wind","Luftfeuchtigkeit","Luftdruck","Taupunkttemperatur","Bewölkung"]
["00",1,98,1026.4000000000001,1.2,8,null,"00",1,98,1031.5,0.1,8]
["01",1,98,1026.8,1.2,8,null,"01",1,98,1031.5999999999999,0,8]
["02",0,98,1027,1.1000000000000001,8,null,"02",1,98,1031.5,0,8]
["03",0,98,1027.5999999999999,1,8,null,"03",1,98,1031.4000000000001,-0.1,8]
["04",0,98,1028,0.7,8,null,"04",1,98,1031.3,-0.1,8]
["05",1,98,1028.2,0.6,8,null,"05",1,98,1031.3,-0.1,8]
["06",0,98,1028.3,0.7,8,null,"06",1,97,1031.3,-0.3,8]
["07",0,98,1028.5999999999999,0.7,8,null,"07",0,97,1031.7,-0.3,8]
["08",1,98,1029.2,0.7,8,null,"08",1,98,1013.9,0,8]
["09",1,98,1029.5999999999999,0.8,8,null,"09",1,97,1032.4000000000001,0.1,8]
["10",1,98,1029.7,0.6,8,null,"10",1,97,1032.4000000000001,0.3,8]
["11",1,98,1029.9000000000001,0.7,8,null,"11",0,96,1032.3,0.5,8]
["12",1,98,1030.0999999999999,0.7,8,null,"12",1,95,1032.0999999999999,0.6,8]
["13",1,98,1030.2,0.9,8,null,"13",1,94,1031.9000000000001,0.5,8]
["14",1,97,1030.0999999999999,0.7,8,null,"14",1,94,1031.7,0.6,8]
["15",1,97,1030,0.6,8,null,"15",1,95,1031.5999999999999,0.7,8]
["16",1,98,1030,0.6,8,null,"16",1,96,1031.5,0.7,8]
["17",1,98,1030,0.4,8,null,"17",0,97,1031.7,0.7,8]
["18",1,98,1030.5,0.3,8,null,"18",0,97,1031.9000000000001,0.7,8]
["19",1,98,1030.7,0.2,8,null,"19",1,98,1031.9000000000001,0.8,8]
["20",1,98,1031.2,0.1,8,null,"20",1,98,1031.5999999999999,0.7,8]
["21",1,98,1031.3,0.1,8,null,"21",0,98,1031.5999999999999,0.7,8]
["22",1,97,1031.4000000000001,0.1,8,null,"22",0,98,1031.7,0.7,8]
["23",1,97,1031.5,0,8,null,"23",0,98,1031.5,0.7,8]
["Mittel",{"$f":"ROUND(AVERAGE(B3:B26),1)","v":0.8},{"$f":"ROUND(AVERAGE(C3:C26),1)","v":97.8},{"$f":"ROUND(AVERAGE(D3:D26),1)","v":1029.4000000000001},{"$f":"AVERAGE(E3:E26)","v":0.61249999999999993},{"$f":"ROUND(AVERAGE(F3:F26),1)","v":8},null,"Mittel",{"$f":"ROUND(AVERAGE(I3:I26),1)","v":0.7},{"$f":"ROUND(AVERAGE(J3:J26),1)","v":97},{"$f":"ROUND(AVERAGE(K3:K26),1)","v":1031},{"$f":"AVERAGE(L3:L26)","v":0.34166666666666673},{"$f":"ROUND(AVERAGE(M3:M26),1)","v":8}]
[]
[null,null,null,null,"2013-02-26",null,null,null,null,null,null,"2013-02-27"]
[]
[]
["Stunde","Wind","Luftfeuchtigkeit","Luftdruck","Taupunkttemperatur","Bewölkung",null,"Stunde","Wind","Luftfeuchtigkeit","Luftdruck","Taupunkttemperatur","Bewölkung"]
["00",0,99,1031.3,0.8,8,null,"00",0,98,1016.6,0.7,8]
["01",0,98,1031.3,0.6,8,null,"01",0,98,1016.6,0.7,8]
["02",0,99,1030.9000000000001,0.7,8,null,"02",0,98,1016.4,0.7,8]
["03",0,99,1030.4000000000001,0.7,8,null,"03",0,98,1016.2,0.7,8]
["04",0,99,1029.9000000000001,0.6,8,null,"04",0,98,1016.5,0.7,8]
["05",0,99,1029.5999999999999,0.5,8,null,"05",0,98,1016.6,0.7,8]
["06",0,99,1029.3,0.5,8,null,"06",1,99,1017.1,0.8,8]
["07",0,99,1029.0999999999999,0.5,8,null,"07",0,98,1017.4,0.6,8]
["08",0,99,1029.3,0.6,8,null,"08",0,99,1018,0.9,8]
["09",0,99,1029.0999999999999,0.8,8,null,"09",0,99,1018.3,1.1000000000000001,8]
["10",0,99,1028.9000000000001,1.2,8,null,"10",0,98,1018.9,1.2,8]
["11",0,96,1028.7,1.4,8,null,"11",0,97,1019.5,1.4,8]
["12",0,94,1028.2,1.6,8,null,"12",0,97,1020.1,1.8,8]
["13",0,91,1027.5999999999999,1.6,8,null,"13",0,97,1020.4,1.9,8]
["14",0,89,1026.9000000000001,1.6,8,null,"14",0,97,1020.9,2.1,8]
["15",0,88,1026.3,1.6,8,null,"15",0,95,1021.3,2.5,8]
["16",0,89,1025.9000000000001,1.4,8,null,"16",1,95,1021.8,2.2000000000000002,8]
["17",0,86,1025.2,0.9,8,null,"17",0,96,1022.5,2,8]
["18",1,86,1025.0999999999999,0.6,8,null,"18",1,97,1023.2,2,8]
["19",0,89,1025,0.5,8,null,"19",1,97,1023.9,1.6,8]
["20",0,90,1024.5999999999999,0.5,8,null,"20",0,97,1024.5999999999999,1.5,8]
["21",1,90,1024.3,0.3,8,null,"21",0,97,1025.5,1.4,8]
["22",1,90,1024.4000000000001,0,8,null,"22",0,98,1026.0999999999999,1.4,8]
["23",1,90,1024.2,-0.1,8,null,"23",1,98,1026.5,1.3,8]
["Mittel",{"$f":"ROUND(AVERAGE(B33:B56),1)","v":0.2},{"$f":"ROUND(AVERAGE(C33:C56),1)","v":94},{"$f":"ROUND(AVERAGE(D33:D56),1)","v":1027.7},{"$f":"AVERAGE(E33:E56)","v":0.80833333333333324},{"$f":"ROUND(AVERAGE(F33:F56),1)","v":8},null,"Mittel",{"$f":"ROUND(AVERAGE(I33:I56),1)","v":0.2},{"$f":"ROUND(AVERAGE(J33:J56),1)","v":97.5},{"$f":"ROUND(AVERAGE(K33:K56),1)","v":1020.2},{"$f":"AVERAGE(L33:L56)","v":1.3291666666666666},{"$f":"ROUND(AVERAGE(M33:M56),1)","v":8}]
[]
[null,null,null,null,"2013-02-28",null,null,null,null,null,null,"2013-02-25"]

{"sheet":"Kurztab.","index":1,"n_rows":51,"n_cols":34,"rows_kept":51,"cut":false,"hidden":false,"merged":[[1,12,1,13],[1,18,1,19]]}
[]
["Wetterwarte: Köttewitz",null,null,null,null,null,null,null,null,null,null,"Monat:","Februar",null,null,null,null,null,null,null,null,null,null,null,"Jahr:",2013]
[]
["Dat.","TTT","TxTx","TnTn","Tg","Umin.","UU","NN","RRRR","Art",null,"sss","PPPP","eee","fff",null,null,"Tage mit",null,null,null,"fk"]
[null,null,null,null,null,null,null,null,null,"*",null,null,null,null,"Bft","SS","Art ( D )","NE","Ge","Bf6","Bf8","Bft"]
["01.",5.6,8.1,3.9,2.6,66,78,7,0.2,"R",null,0,1003.3,2,2,null,null,1,null,null,null,5,null,null,null,null,"max >=30,0°C","max >=25,0°C","max  <0,0°C",null,"RR >=0,1 mm","RR >=1,0 mm","RR >=3,0 mm","RR >=10,0 mm"]
["02.",2.1,4.3,-0.2,-1.1000000000000001,81,91,7.8,3.6,"R",null,0,996.7,0.9,1,null,null,1,null,null,null,4,null,null,null,null,{"$f":"COUNTIF(C6:C15,\">=30\")","v":0},{"$f":"COUNTIF(C6:C15,\">=25\")","v":0},{"$f":"COUNTIF(C6:C15,\"<0\")","v":1},null,{"$f":"COUNTIF(I6:I15,\">=0,1\")","v":8},{"$f":"COUNTIF(I6:I15,\">=1\")","v":3},{"$f":"COUNTIF(I6:I15,\">=3\")","v":2},{"$f":"COUNTIF(I6:I15,\">=10\")","v":0}]
["03.",0.5,2.2999999999999998,-1.9,-3.4,74,84,6.9,0.4,"R",null,0,1012.1,-2,1,null,null,1,null,null,null,5,null,null,null,null,{"$f":"COUNTIF(C18:C27,\">=30\")","v":0},{"$f":"COUNTIF(C18:C27,\">=25\")","v":0},{"$f":"COUNTIF(C18:C27,\"<0\")","v":3},null,{"$f":"COUNTIF(I18:I27,\">=0,1\")","v":6},{"$f":"COUNTIF(I18:I27,\">=1\")","v":5},{"$f":"COUNTIF(I18:I27,\">=3\")","v":2},{"$f":"COUNTIF(I18:I27,\">=10\")","v":1}]
["04.",3.9,6.1,1,0,82,88,7.3,3.8,"R",null,0,1006.4,2,2,null,null,1,null,null,null,5,null,null,null,null,{"$f":"COUNTIF(C30:C37,\">=30\")","v":0},{"$f":"COUNTIF(C30:C37,\">=25\")","v":0},{"$f":"COUNTIF(C30:C37,\"<0\")","v":3},null,{"$f":"COUNTIF(I30:I37,\">=0,1\")","v":7},{"$f":"COUNTIF(I30:I37,\">=1\")","v":3},{"$f":"COUNTIF(I30:I37,\">=3\")","v":3},{"$f":"COUNTIF(I30:I37,\">=10\")","v":1}]
["05.",4.4000000000000004,8.3000000000000007,0.3,-1.8,57,75,6,0.2,"R",null,1.3,1001.3,0.4,1,null,null,1,null,null,null,5]
["06.",-0.1,3.9,-4.3,-6.3,56,80,6.6,1.8,"R",null,2.2000000000000002,999.7,-3.3,1,null,null,1,null,null,null,3,null,null,null,null,"min  <0,0°C","min <0-10,0°C",null,null,"rel.Lf. 14h >=70%",null,"rel.Lf. 14h <=40%"]
["07.",-1.9,2.7,-6.4,-7.9,77,90,7.6,0.7,"S",null,0.7,1006.8,-3.4,1,1,"V",1,null,null,null,3,null,null,null,null,{"$f":"COUNTIF(D6:D15,\"<0\")","v":7},{"$f":"COUNTIF(D6:D15,\"<=-10\")","v":0},null,null,{"$f":"COUNTIF(F6:F15,\">=70\")","v":6},null,{"$f":"COUNTIF(F6:F15,\"<=40\")","v":0}]
["08.",-1.3,1,-3.5,-5,75,88,7.4,0.9,"S",null,4.5,1011.9,-3,1,3,"D",1,null,null,null,3,null,null,null,null,{"$f":"COUNTIF(D18:D27,\"<0\")","v":10},{"$f":"COUNTIF(D18:D27,\"<=-10\")","v":0},null,null,{"$f":"COUNTIF(F18:F27,\">=70\")","v":10},null,{"$f":"COUNTIF(F18:F27,\"<=40\")","v":0}]
["09.",-1.7,0.8,-4.3,-5.6,65,82,6.7,0,"S",null,1.5,1017.3,-4.4000000000000004,1,3,"D",1,null,null,null,3,null,null,null,null,{"$f":"COUNTIF(D30:D37,\"<0\")","v":4},{"$f":"COUNTIF(D30:D37,\"<=-10\")","v":0},null,null,{"$f":"COUNTIF(F30:F37,\">=70\")","v":8},null,{"$f":"COUNTIF(F30:F37,\"<=40\")","v":0}]
["10.",-4.3,-0.5,-8.1,-8.9,70,85,7,0,null,null,3,1017.3,-6.3,1,3,"D",null,null,null,null,2]
["Su",{"$f":"SUM(B6:B15)","v":7.1999999999999984},{"$f":"SUM(C6:C15)","v":37},{"$f":"SUM(D6:D15)","v":-23.5},{"$f":"SUM(E6:E15)","v":-37.4},"XXX",{"$f":"SUM(G6:G15)","v":841},{"$f":"SUM(H6:H15)","v":70.300000000000011},{"$f":"SUM(I6:I15)","v":11.6},{"$f":"SUM(K6:K15)","v":0},null,{"$f":"SUM(L6:L15)","v":13.2},{"$f":"SUM(M6:M15)","v":10072.799999999999},{"$f":"SUM(N6:N15)","v":-17.100000000000001},"XXX",{"$f":"COUNT(P6:P15)","v":4},"X",{"$f":"SUM(R6:R15)","v":9},{"$f":"SUM(S6:S15)","v":0},{"$f":"SUM(T6:T15)","v":0},{"$f":"SUM(U6:U15)","v":0},"XXX",null,null,null,null,"ohne Sonne","Son. 0,1-0,9","Son.  >=10,0",null,"Sch. >=1 cm","Sch. >=3 cm","Sch. >=10 cm"]
["Mi",{"$f":"SUM(B16/10)","v":0.71999999999999986},{"$f":"AVERAGE(C16/10)","v":3.7},{"$f":"AVERAGE(D16/10)","v":-2.35},{"$f":"E16/10","v":-3.7399999999999998},"XXX",{"$f":"AVERAGE(G16/10)","v":84.1},{"$f":"AVERAGE(H16/10)","v":7.0300000000000011},"XXXXX","XX",null,"XXXX",{"$f":"AVERAGE(M16/10)","v":1007.28},{"$f":"AVERAGE(N16/10)","v":-1.7100000000000002},"XXX","XXX","X","XX","XX","XX","XX","XXX",null,null,null,null,{"$f":"COUNTIF(L6:L15,\".\")","v":0},{"$f":"COUNTIF(L6:L15,\"<1\")","v":5},{"$f":"COUNTIF(L6:L15,\">=10\")","v":0},null,{"$f":"COUNTIF(P6:P15,\">=1\")","v":4},{"$f":"COUNTIF(P6:P15,\">=3\")","v":3},{"$f":"COUNTIF(P6:P15,\">=10\")","v":0}]
["11.",-3.4,-0.2,-8.3000000000000007,-9.4,74,83,6.8,0,null,null,0.2,1011.1,-6.1,1,2,"V",null,null,null,null,4,null,null,null,null,{"$f":"COUNTIF(L18:L27,\".\")","v":0},{"$f":"COUNTIF(L18:L27,\"<1\")","v":10},{"$f":"COUNTIF(L18:L27,\">=10\")","v":0},null,{"$f":"COUNTIF(P18:P27,\">=1\")","v":10},{"$f":"COUNTIF(P18:P27,\">=3\")","v":9},{"$f":"COUNTIF(P18:P27,\">=10\")","v":2}]
["12.",-2.1,-1.4,-2.4,-3.4,78,89,7.4,3.5,"S",null,0,1011.7,-3.7,1,6,"*",1,null,null,null,3,null,null,null,null,{"$f":"COUNTIF(L30:L37,\".\")","v":0},{"$f":"COUNTIF(L30:L37,\"<1\")","v":8},{"$f":"COUNTIF(L30:L37,\">=10\")","v":0},null,{"$f":"COUNTIF(P30:P37,\">=1\")","v":8},{"$f":"COUNTIF(P30:P37,\">=3\")","v":8},{"$f":"COUNTIF(P30:P37,\">=10\")","v":7}]
["13.",-1.7,-0.3,-2.5,-1.7,89,94,8,2.2999999999999998,"S",null,0,1022.6,-2.6,1,9,"*",1,null,null,null,3]
["14.",-1.7,0.3,-2.8,-2.8,84,93,8,0,null,null,0,1025,-2.7,0,9,"*",null,null,null,null,2,null,null,null,null,"Max TT","Max TxTx","Min TgTg",null,"Max RR"]
["15.",-0.7,1.4,-2.9,-2.8,88,92,7.9,0,null,null,0,1019.8,-1.9,0,8,"*",null,null,null,null,1,null,null,null,null,{"$f":"MAX(B6:B15,B18:B27,B30:B37)","v":5.6},{"$f":"MAX(C6:C15,C18:C27,C30:C37)","v":8.3000000000000007},{"$f":"MIN(E6:E15,E18:E27,E30:E37)","v":-9.4},null,{"$f":"MAX(I6:I15,I18:I27,I30:I37)","v":12.7}]
["16.",0.3,1.8,-0.9,-1.1000000000000001,92,95,8,1.1000000000000001,"S",null,0,1023.9,-0.4,0,6,"D",1,null,null,null,1,null,null,null,null,"Min TT","Min TnTn","Min U14",null,"Max SS"]
["17.",0.4,1.4,-0.2,-0.6,93,96,8,0.4,"S",null,0,1025.2,-0.1,0,4,"V",1,null,null,null,2,null,null,null,null,{"$f":"MIN(B6:B15,B18:B27,B30:B37)","v":-4.5999999999999996},{"$f":"MIN(D6:D15,D18:D27,D30:D37)","v":-8.3000000000000007},{"$f":"MIN(F6:F15,F18:F27,F30:F37)","v":56},null,{"$f":"MAX(P6:P15,P18:P27,P30:P37)","v":32}]
["18.",0.1,1.2,-0.7,-1.1000000000000001,81,91,8,0,null,null,0,1022.6,-1.3,0,6,"D",null,null,null,null,3]
["19.",0.1,1.4,-1.2,-1.1000000000000001,83,92,8,10.4,"S",null,0,1013.8,-1,1,10,"*",1,null,null,null,4]
["20.",-1.6,0.2,-3.1,-1.1000000000000001,84,93,7.9,2.5,"S",null,0.1,1019.5,-2.6,1,14,"*",1,null,null,null,3]
["Su",{"$f":"SUM(B18:B27)","v":-10.299999999999999},{"$f":"SUM(C18:C27)","v":5.8},{"$f":"SUM(D18:D27)","v":-24.999999999999996},"XXXX","XXX",{"$f":"SUM(G18:G27)","v":918},{"$f":"SUM(H18:H27)","v":78},{"$f":"SUM(I18:I27)","v":20.200000000000003},{"$f":"SUM(K18:K27)","v":0},null,{"$f":"SUM(L18:L27)","v":0.30000000000000004},{"$f":"SUM(M18:M27)","v":10195.199999999999},{"$f":"SUM(N18:N27)","v":-22.400000000000002},"XXX",{"$f":"COUNT(P18:P27)","v":10},"X",{"$f":"SUM(R18:R27)","v":6},{"$f":"SUM(S18:S27)","v":0},{"$f":"SUM(T18:T27)","v":0},{"$f":"SUM(U18:U27)","v":0},"XXX"]
["Mi",{"$f":"AVERAGE(B28/10)","v":-1.0299999999999998},{"$f":"AVERAGE(C28/10)","v":0.57999999999999996},{"$f":"AVERAGE(D28/10)","v":-2.4999999999999996},"XXXX","XXX",{"$f":"AVERAGE(G28/10)","v":91.8},{"$f":"AVERAGE(H28/10)","v":7.8},"XXXXX","XX",null,"XXXX",{"$f":"AVERAGE(M28/10)","v":1019.5199999999999},{"$f":"AVERAGE(N28/10)","v":-2.2400000000000002},"XXX","XXX","X","XX","XX","XX","XX","XXX"]
["21.",-4.0999999999999996,-2.7,-5.2,-1.7,84,91,8,0.5,"S",null,0,1022,-5.2,1,15,"*",1,null,null,null,3]
["22.",-4.5999999999999996,-3.8,-5.7,-1.7,82,90,8,0.4,"S",null,0,1018.9,-6.1,1,15,"*",1,null,null,null,4]
["23.",-2.9,-1.3,-4.5,-0.6,94,93,8,12.7,"S",null,0,1012.1,-4,1,27,"*",1,null,null,null,3]
["24.",0.2,1.8,-1.7,-1.7,94,96,8,3.2,"S",null,0,1012.9,-0.4,0,32,"*",1,null,null,null,1]
["25.",1.7,3.4,0.8,0,94,97,8,3.7,"R",null,0,1020.2,1.3,0,18,"*",1,null,null,null,2]
["26.",0.9,1.6,0.3,0,97,98,8,0.7,"R",null,0,1029.4000000000001,0.6,1,13,"*",1,null,null,null,3]
["27.",0.8,1.7,0.1,0,94,97,8,0.2,"R",null,0,1031,0.3,1,11,"*",1,null,null,null,2]
["28.",1.7,3.6,0.6,0,85,94,8,0,null,null,0,1027.7,0.8,0,8,"*",null,null,null,null,3]
["Su",{"$f":"SUM(B30:B37)","v":-6.3},{"$f":"SUM(C30:C37)","v":4.3},{"$f":"SUM(D30:D37)","v":-15.3},"XXXX","XXX",{"$f":"SUM(G30:G37)","v":756},{"$f":"SUM(H30:H37)","v":64},{"$f":"SUM(I30:I37)","v":21.4},{"$f":"SUM(K30:K37)","v":0},null,{"$f":"SUM(L30:L37)","v":0},{"$f":"SUM(M30:M37)","v":8174.2},{"$f":"SUM(N30:N37)","v":-12.7},"XXX",{"$f":"COUNT(P30:P37)","v":8},"X",{"$f":"SUM(R30:R37)","v":7},{"$f":"SUM(S30:S37)","v":0},{"$f":"SUM(T30:T37)","v":0},{"$f":"SUM(U30:U37)","v":0},"XXX"]
["Mi",{"$f":"AVERAGE(B38/8)","v":-0.78749999999999998},{"$f":"AVERAGE(C38/8)","v":0.53749999999999998},{"$f":"AVERAGE(D38/8)","v":-1.9125000000000001},"XXXX","XXX",{"$f":"AVERAGE(G38/8)","v":94.5},{"$f":"AVERAGE(H38/8)","v":8},"XXXXX","XX",null,"XXXX",{"$f":"AVERAGE(M38/8)","v":1021.775},{"$f":"AVERAGE(N38/8)","v":-1.5874999999999999},"XXX","XXX","X","XX","XX","XX","XX","XXX"]
["MSu",{"$f":"SUM(B16+B28+B38)","v":-9.4},{"$f":"SUM(C16+C28+C38)","v":47.099999999999994},{"$f":"SUM(D16+D28+D38)","v":-63.8},"XXXX","XXX",{"$f":"SUM(G16+G28+G38)","v":2515},{"$f":"SUM(H16+H28+H38)","v":212.3},{"$f":"SUM(I16+I28+I38)","v":53.2},{"$f":"SUM(J16+J28+J38)","v":0},null,{"$f":"SUM(L16+L28+L38)","v":13.5},{"$f":"SUM(M16+M28+M38)","v":28442.2},{"$f":"SUM(N16+N28+N38)","v":-52.2},"XXX",{"$f":"SUM(P16+P28+P38)","v":22},"X",{"$f":"SUM(R16+R28+R38)","v":22},{"$f":"SUM(S16+S28+S38)","v":0},{"$f":"SUM(T16+T28+T38)","v":0},{"$f":"SUM(U16+U28+U38)","v":0},"XXX"]
["MMi",{"$f":"AVERAGE(B17,B29,B39)","v":-0.36583333333333329},{"$f":"AVERAGE(C40/28)","v":1.6821428571428569},{"$f":"AVERAGE(D40/28)","v":-2.2785714285714285},"XXXX","XXX",{"$f":"AVERAGE(G40/28)","v":89.821428571428569},{"$f":"AVERAGE(H40/28)","v":7.5821428571428573},"XXXXX","XX",null,"XXXX",{"$f":"AVERAGE(M40/28)","v":1015.7928571428572},{"$f":"AVERAGE(N40/28)","v":-1.8642857142857143},"XXX","XXX","X","XX","XX","XX","XX","XXX"]
[]
[null,"Norm","% v N.-","Abw.","Zahl der Tage",null,null,null,null,null,null,"Niederschlag mm",null,null,null,"Sonnensch.-dauer Std"]
[null,"wert","wert","K","Max.d.Lufttemp.°C",null,null,null,null,null,null,">/=  0,1",null,null,{"$f":"SUM(AE7:AE9)","v":21},"ohne Sonne",null,null,null,null,null,20]
["TTT",0.9,"XXXX",{"$f":"SUM(B41-B45)","v":-1.2658333333333334},"Tropentag/Hitzetag",null,null,null,{"$f":"SUM(AA7:AA9)","v":0},null,null,">/=  1,0",null,null,{"$f":"SUM(AF7:AF9)","v":11},"0,1 bis 0,9",null,null,null,null,null,3]
["RRR",35,{"$f":"SUM(I40*100/B46)","v":152},"XXXX","Sommertag",null,null,null,{"$f":"SUM(AB7:AB9)","v":0},null,null,">/=  3,0",null,null,{"$f":"SUM(AG7:AG9)","v":7},">/= 10,0",null,null,null,null,null,{"$f":"SUM(AC17:AC19)","v":0}]
["sss",77,{"$f":"SUM(L40*100/B47)","v":17.532467532467532},"XXXX","Eistag",null,null,null,{"$f":"SUM(AC7:AC9)","v":7},null,null,">/=10,0",null,null,{"$f":"SUM(AH7:AH9)","v":2},"Schneedecke cm"]
["astr.",null,null,"XXXX","Min.d.Lufttemp.°C",null,null,null,null,null,null,">/=  20,0",null,null,0,">/=   1",null,null,null,null,null,{"$f":"SUM(AE17:AE19)","v":22}]
["mgl.",266,{"$f":"SUM(L40*100/B49)","v":5.0751879699248121},"XXXX","Frosttag",null,null,null,{"$f":"SUM(AA12:AA14)","v":21},null,null,"Rel. Luftfeuchte 14 Uhr",null,null,null,">/=   3",null,null,null,null,null,{"$f":"SUM(AF17:AF19)","v":20}]
["sss",null,null,"XXXX","starker Eistag",null,null,null,{"$f":"SUM(AB12:AB14)","v":0},null,null,">/=70%",null,null,{"$f":"SUM(AE12:AE14)","v":24},">/= 10",null,null,null,null,null,{"$f":"SUM(AG17:AG19)","v":9}]
[null,null,null,null,null,null,null,null,null,null,null,"</=40%",null,null,{"$f":"SUM(AG12:AG14)","v":0}]

{"sheet":"Sichtst.","index":2,"n_rows":40,"n_cols":18,"rows_kept":40,"cut":false,"hidden":false,"merged":[[4,6,4,7]]}
[null,null,null,null,"Sichtweitenstatistik "]
[]
[]
[]
[null,"Wetterstation: Köttewitz",null,null,null,"Monat:","Februar",null,null,null,"Jahr:",2013]
[]
["Dat.","Nebeldauer","Nebel","Dunst","Sicht","Sicht","Sicht","Sicht"]
[null,"in St. u. Min.",null,null,"mittel","normal","gut","sehr gut"]
["01.","-",{"$f":"IF(R9=1,1,\"-\")","v":"-"},{"$f":"IF(R9=2,1,\"-\")","v":"-"},{"$f":"IF(R9=3,1,\"-\")","v":"-"},1,"-","-",null,null,null,null,null,{"$f":"IF(ISNUMBER(B9),B9*24,\" \")","v":" "},{"$f":"IF(ISNUMBER(N9),IF(N9<1,1,\" \"),\" \")","v":" "},{"$f":"IF(ISNUMBER(N9),IF(N9<8,2,\" \"),\" \")","v":" "},{"$f":"IF(ISNUMBER(N9),IF(N9<24,3,\" \"),\" \")","v":" "},{"$f":"MIN(O9:Q9)","v":0}]
["02.","-","-",1,"-","-","-"," -",null,null,null,null,null," "," "," "," ",0]
["03.","-","-","-",1,"-","-"," -",null,null,null,null,null," "," "," "," ",0]
["04.","-","-","-",1,"-","-","-",null,null,null,null,null," "," "," "," ",0]
["05.","-","-","-","-",1,"-","-",null,null,null,null,null," "," "," "," ",0]
["06.","-","-","-","-",1,"-","-",null,null,null,null,null," "," "," "," ",0]
["07.","-","-","-",1,"-","-","-",null,null,null,null,null," "," "," "," ",0]
["08.","-","-","-",1,"-","-","-",null,null,null,null,null," "," "," "," ",0]
["09.","-","-","-","-",1,"-","-",null,null,null,null,null," "," "," "," ",0]
["10.","-","-","-","-",1,"-","-",null,null,null,null,null," "," "," "," ",0]
["11.","-","-","-",1," -","-","-",null,null,null,null,null," "," "," "," ",0]
["12.","-","-",1,"-","-","-","-",null,null,null,null,null," "," "," "," ",0]
["13.","-","-",1,"-"," -","-","-",null,null,null,null,null," "," "," "," ",0]
["14.","-","-",1,"-"," -","-","-",null,null,null,null,null," "," "," "," ",0]
["15.","-","-",1,"-"," -","-","-",null,null,null,null,null," "," "," "," ",0]
["16.","02:00:00",1,1,"-","-","-","-",null,null,null,null,null,2," ",2,3,2]
["17.","-","-",1,"-"," -","-","-",null,null,null,null,null," "," "," "," ",0]
["18.","-","-",1,"-"," -","-","-",null,null,null,null,null," "," "," "," ",0]
["19.","-","-",1,1," -","-","-",null,null,null,null,null," "," "," "," ",0]
["20.","-","-",1,"-"," -","-","-",null,null,null,null,null," "," "," "," ",0]
["21.","-","-",1,1," -","-","-",null,null,null,null,null," "," "," "," ",0]
["22.","01:15:00",1,1,1," -","-","-",null,null,null,null,null,1.25," ",2,3,2]
["23.","-","-",1,"-"," -","-","-",null,null,null,null,null," "," "," "," ",0]
["24.","10:00:00",1,1,"-","-","-","-",null,null,null,null,null,10," "," ",3,3]
["25.","-","-",1,"-","-","-","-",null,null,null,null,null," "," "," "," ",0]
["26.","02:00:00",1,1,1,"-","-","-",null,null,null,null,null,2," ",2,3,2]
["27.","-",1,1,"-","-","-","-",null,null,null,null,null," "," "," "," ",0]
["28.","-",{"$f":"IF(R36=1,1,\"-\")","v":"-"},1,1,"-","-","-",null,null,null,null,null,{"$f":"IF(ISNUMBER(B36),B36*24,\" \")","v":" "},{"$f":"IF(ISNUMBER(N36),IF(N36<1,1,\" \"),\" \")","v":" "},{"$f":"IF(ISNUMBER(N36),IF(N36<8,2,\" \"),\" \")","v":" "},{"$f":"IF(ISNUMBER(N36),IF(N36<24,3,\" \"),\" \")","v":" "},{"$f":"MIN(O36:Q36)","v":0}]
["Su.","XXXXXXXXX",{"$f":"SUM(C9:C36)","v":5},18,10,5,0,0]
[]
[null,"Anzahl der Nebeltage                  :",null,null,{"$f":"SUM(C37)","v":5}]
[null,"Anzahl der Tage Sicht >= 50 km :",null,null,{"$f":"SUM(G37,H37)","v":0}]

{"sheet":"Monatsdiagramm","index":3,"n_rows":10,"n_cols":9,"rows_kept":10,"cut":false,"hidden":false,"merged":[[2,0,2,1],[5,4,5,5],[7,4,7,5]]}
["Klimadiagramm",null,"Wetterstation Köttewitz",null,null,null,null,null,"(213 m ü. NHN)"]
[]
["Februar 2013"]
[]
[null,null,"aktuell","langj.  Mittel","Abw. vom lj. Mittel"]
[null,"höchste Temperatur (°C):",{"$f":"MAX('Daten für Diagr.'!C2:C29)","v":8.3000000000000007},"am","2013-02-05"]
[null,"mittlere Temperatur (°C):",{"$f":"Kurztab.!B41","v":-0.36583333333333329},{"$f":"Kurztab.!B45","v":0.9},{"$f":"C7-D7","v":-1.2658333333333334},"K"]
[null,"tiefste Temperatur (°C):",{"$f":"MIN('Daten für Diagr.'!D2:D29)","v":-8.3000000000000007},"am","2013-02-11"]
[null,"Niederschlagshöhe (mm):",{"$f":"Kurztab.!I40","v":53.2},{"$f":"Kurztab.!B46","v":35},{"$f":"100/D9*C9","v":152},"%"]
[null,"Sonnenscheindauer (Std.):",{"$f":"Kurztab.!L40","v":13.5},{"$f":"Kurztab.!B47","v":77},{"$f":"100/D10*C10","v":17.532467532467532},"%"]

{"sheet":"Daten für Diagr.","index":4,"n_rows":31,"n_cols":12,"rows_kept":31,"cut":false,"hidden":false,"merged":[]}
[null,"Td","Tmax","Tmin","RR","Schnee","Sonne","Luftdr.","MWT","GWL","Name","Sonstiges"]
["2013-02-01",5.6,8.1,3.9,0.2,null,0,1003.3,0.4]
["2013-02-02",2.1,4.3,-0.2,3.6,null,0,996.7,0.45,"Wz","T Norfried"]
["2013-02-03",0.5,2.2999999999999998,-1.9,0.4,null,0,1012.1,0.45]
["2013-02-04",3.9,6.1,1,3.8,null,0,1006.4,0.5]
["2013-02-05",4.4000000000000004,8.3000000000000007,0.3,0.2,null,1.3,1001.3,0.5]
["2013-02-06",-0.1,3.9,-4.3,1.8,0,2.2000000000000002,999.7,0.55000000000000004]
["2013-02-07",-1.9,2.7,-6.4,0.7,1,0.7,1006.8,0.55000000000000004,"NEz","T Quenten 2"]
["2013-02-08",-1.3,1,-3.5,0.9,3,4.5,1011.9,0.6]
["2013-02-09",-1.7,0.8,-4.3,null,3,1.5,1017.3,0.6]
["2013-02-10",-4.3,-0.5,-8.1,null,3,3,1017.3,0.65]
["2013-02-11",-3.4,-0.2,-8.3000000000000007,null,2,0.2,1011.1,0.65,"HFz","H Doris"]
["2013-02-12",-2.1,-1.4,-2.4,3.5,6,0,1011.7,0.7]
["2013-02-13",-1.7,-0.3,-2.5,2.2999999999999998,9,0,1022.6,0.7,"HM"]
["2013-02-14",-1.7,0.3,-2.8,null,9,0,1025,0.75]
["2013-02-15",-0.7,1.4,-2.9,null,8,0,1019.8,0.8]
["2013-02-16",0.3,1.8,-0.9,1.1000000000000001,6,0,1023.9,0.85,"Hfa","H Doris","Von 06:30 Uhr - 10:30 Uhr mäßiger Schnefall. Von 10:30 - 12:00 Uhr; 13:50 Uhr - 18:00 Uhr  leichter Schneefall. Von 22:00 Uhr - 00:00 Uhr leichter Nebel."]
["2013-02-17",0.4,1.4,-0.2,0.4,4,0,1025.2,0.85]
["2013-02-18",0.1,1.2,-0.7,null,6,0,1022.6,0.9]
["2013-02-19",0.1,1.4,-1.2,10.4,10,0,1013.8,0.95,"Nz","T Siegmund","Ganztag Schneeschauer, z.T. stark (Gegen 15 Uhr)."]
["2013-02-20",-1.6,0.2,-3.1,2.5,14,0.1,1019.5,1,null,null,"Gegen Mittag und 15:20 Uhr starker Graupelschauer, sonst leichter Schneefall. Von 16:00 Uhr - 23:59 Uhr starker Schneefall + starke Sichteinschränkung."]
["2013-02-21",-4.0999999999999996,-2.7,-5.2,0.5,15,0,1022,1,"HFa","H Fenne","Ganztags Schnee u.a. stark mit Sichteinschränkung auf 4 km."]
["2013-02-22",-4.5999999999999996,-3.8,-5.7,0.4,15,0,1018.9,1.1000000000000001,null,null,"Ab Mittag Schneefall u. a. stark mit Sichteinschränkung auf 1 km. Von 17:45 Uhr - 19:00 Uhr leichten Nebel."]
["2013-02-23",-2.9,-1.3,-4.5,12.7,27,0,1012.1,1.1499999999999999,"Sz","T Thomas","Bis gegen 17:00 Uhr starker Schneefall mit Sichteinschränkung auf 1 km."]
["2013-02-24",0.2,1.8,-1.7,3.2,32,0,1012.9,1.25,null,null,"Bis 10:00 Uhr Schneefall mit Sichteinschränkung auf 900 m. Von 17:00 Uhr - 23:59 Uhr starker Dunst."]
["2013-02-25",1.7,3.4,0.8,3.7,18,0,1020.2,1.3,"HFa","H Fenne","Bis 09:30 Uhr starker Dunst. Von 09:31 Uhr - 23:59 Uhr mäßiger Dunst."]
["2013-02-26",0.9,1.6,0.3,0.7,13,0,1029.4000000000001,1.4,null,null,"Von 08:30 Uhr - 10:30 Uhr mäßiger Nebel (300 m). Von 10:30 Uhr - 21:40 Uhr starker Dunst."]
["2013-02-27",0.8,1.7,0.1,0.2,11,0,1031,1.5,"HB",null,"Von 18:40 Uhr - 23:59 Uhr starker Nebel (200 m). Von 17:45 Uhr - 18:39 Uhr leichter Nebel. Von 08:00 Uhr - 10:00; 16:30 Uhr - 17:45 Uhr mäßiger Dunst. Von 10:00 Uhr - 12:00 Uhr ; 15:00 Uhr - 16:30 Uhr leichter Dunst."]
["2013-02-28",1.7,3.6,0.6,null,8,0,1027.7,1.6,null,null,"Vom 00:00 Uhr - 10:00 Uhr starker Dunst. Von 10:00 Uhr - 10:30 Uhr mäßiger Dunst. Von 10:30 Uhr - 10:50 Uhr leichter Dunst."]
["Durchschnitt",{"$f":"AVERAGE(B2:B29)","v":-0.3357142857142858},{"$f":"AVERAGE(C2:C29)","v":1.6821428571428572},{"$f":"AVERAGE(D2:D29)","v":-2.2785714285714294},null,null,null,{"$f":"AVERAGE(H2:H29)","v":1015.7928571428572},{"$f":"AVERAGE(I2:I29)","v":0.84642857142857142}]
["Mittel",0.9,null,null,35,"-",77,1018.4]